BEGIN:VCALENDAR
VERSION:2.0
PRODID:-//SSNIT - ECPv6.2.0.1//NONSGML v1.0//EN
CALSCALE:GREGORIAN
METHOD:PUBLISH
X-ORIGINAL-URL:https://www.ssnit.org.gh
X-WR-CALDESC:Events for SSNIT
REFRESH-INTERVAL;VALUE=DURATION:PT1H
X-Robots-Tag:noindex
X-PUBLISHED-TTL:PT1H
BEGIN:VTIMEZONE
TZID:UTC
BEGIN:STANDARD
TZOFFSETFROM:+0000
TZOFFSETTO:+0000
TZNAME:UTC
DTSTART:20250101T000000
END:STANDARD
END:VTIMEZONE
BEGIN:VEVENT
DTSTART;VALUE=DATE:20250918
DTEND;VALUE=DATE:20250919
DTSTAMP:20260421T183843
CREATED:20240305T141843Z
LAST-MODIFIED:20250403T115412Z
UID:3662-1758153600-1758239999@www.ssnit.org.gh
SUMMARY:Pension Payment
DESCRIPTION:
URL:https://www.ssnit.org.gh/event/pension-payment-9/
CATEGORIES:Pension Payment
END:VEVENT
END:VCALENDAR